BEGIN:VCALENDAR
VERSION:2.0
PRODID:-//Squarespace Inc/Squarespace 6//v6//EN
BEGIN:VEVENT
UID:5b1878cd562fa7c61bdd0b03@squarespace.com
DTSTAMP:20180704T231719Z
DTSTART:20180706T230000Z
DTEND:20180707T070000Z
SUMMARY:TFW Turns 35!
GEO:-28.284893;153.524617
LOCATION:Tropical Fruit World\, 29 Duranbah Road\, Duranbah\, NSW\, 2487\, 
 Australia
END:VEVENT
END:VCALENDAR
