BEGIN:VCALENDAR
VERSION:2.0
PRODID:-//Squarespace Inc/Squarespace 6//v6//EN
BEGIN:VEVENT
UID:5c6b58dba4222f337830342f@squarespace.com
DTSTAMP:20190221T023930Z
DTSTART:20190219T012000Z
DTEND:20190331T021959Z
SUMMARY:SOURSOP Dried Leaves - Buy 3 get 4th bag FREE. 
END:VEVENT
END:VCALENDAR
