BEGIN:VCALENDAR
VERSION:2.0
PRODID:-//Squarespace Inc/Squarespace 6//v6//EN
BEGIN:VEVENT
UID:5b751824aa4a9903e4ce4a4d@squarespace.com
DTSTAMP:20181101T025405Z
DTSTART:20180921T063000Z
DTEND:20181031T073000Z
SUMMARY:GIFT WITH PURCHASE 
END:VEVENT
END:VCALENDAR
