BEGIN:VCALENDAR
VERSION:2.0
PRODID:-//Squarespace Inc/Squarespace 6//v6//EN
BEGIN:VEVENT
UID:5b9719fe8a922d559f3dc95a@squarespace.com
DTSTAMP:20181101T025419Z
DTSTART:20180930T013000Z
DTEND:20181031T023000Z
SUMMARY:BLACK SAPOTE SEASON AT TROPICAL FRUIT WORLD 
END:VEVENT
END:VCALENDAR
