BEGIN:VCALENDAR
VERSION:2.0
PRODID:-//Squarespace Inc/Squarespace 6//v6//EN
BEGIN:VEVENT
UID:5b7514f403ce64e8d588231b@squarespace.com
DTSTAMP:20181101T025432Z
DTSTART:20181007T063000Z
DTEND:20181031T073000Z
SUMMARY:HEALTHY WINTER SKIN SOLUTIONS
END:VEVENT
END:VCALENDAR
