BEGIN:VCALENDAR
VERSION:2.0
PRODID:-//Squarespace Inc/Squarespace 6//v6//EN
BEGIN:VEVENT
UID:5c0f4fb8758d46ceef9ae8d4@squarespace.com
DTSTAMP:20181211T061459Z
DTSTART:20181204T060000Z
DTEND:20190124T070000Z
SUMMARY:Tropical Fruit World GIFT VOUCHERS 
END:VEVENT
END:VCALENDAR
