BEGIN:VCALENDAR
VERSION:2.0
PRODID:-//Squarespace Inc/Squarespace 6//v6//EN
BEGIN:VEVENT
UID:5c0f46ac21c67c5097a5bec1@squarespace.com
DTSTAMP:20181211T061512Z
DTSTART:20181211T053000Z
DTEND:20181211T063000Z
SUMMARY:New Product - Chocolate Farm Honeycomb 
END:VEVENT
END:VCALENDAR
