BEGIN:VCALENDAR
VERSION:2.0
PRODID:-//Squarespace Inc/Squarespace 6//v6//EN
BEGIN:VEVENT
UID:5bda617a03ce64828d6a1e4b@squarespace.com
DTSTAMP:20181101T054135Z
DTSTART:20181101T023000Z
DTEND:20181130T033000Z
SUMMARY:FREE shipping on all orders $100 and over*
END:VEVENT
END:VCALENDAR
